BEGIN:VCALENDAR
VERSION:2.0
PRODID:-//Olympia Hills Golf &amp; Event Center - ECPv6.15.18//NONSGML v1.0//EN
CALSCALE:GREGORIAN
METHOD:PUBLISH
X-ORIGINAL-URL:https://www.olympiahillsgolf.com
X-WR-CALDESC:Events for Olympia Hills Golf &amp; Event Center
REFRESH-INTERVAL;VALUE=DURATION:PT1H
X-Robots-Tag:noindex
X-PUBLISHED-TTL:PT1H
BEGIN:VTIMEZONE
TZID:America/Chicago
BEGIN:DAYLIGHT
TZOFFSETFROM:-0600
TZOFFSETTO:-0500
TZNAME:CDT
DTSTART:20230312T080000
END:DAYLIGHT
BEGIN:STANDARD
TZOFFSETFROM:-0500
TZOFFSETTO:-0600
TZNAME:CST
DTSTART:20231105T070000
END:STANDARD
BEGIN:DAYLIGHT
TZOFFSETFROM:-0600
TZOFFSETTO:-0500
TZNAME:CDT
DTSTART:20240310T080000
END:DAYLIGHT
BEGIN:STANDARD
TZOFFSETFROM:-0500
TZOFFSETTO:-0600
TZNAME:CST
DTSTART:20241103T070000
END:STANDARD
BEGIN:DAYLIGHT
TZOFFSETFROM:-0600
TZOFFSETTO:-0500
TZNAME:CDT
DTSTART:20250309T080000
END:DAYLIGHT
BEGIN:STANDARD
TZOFFSETFROM:-0500
TZOFFSETTO:-0600
TZNAME:CST
DTSTART:20251102T070000
END:STANDARD
END:VTIMEZONE
BEGIN:VEVENT
DTSTART;TZID=America/Chicago:20241121T170000
DTEND;TZID=America/Chicago:20241121T200000
DTSTAMP:20260421T040740
CREATED:20241001T144230Z
LAST-MODIFIED:20241001T144230Z
UID:10000008-1732208400-1732219200@www.olympiahillsgolf.com
SUMMARY:Last Thursday Night Happy Hour of 2024 - Gary the Showman
DESCRIPTION:Gary the Showman **Please note\, this will be the last happy hour for the year\, we will pick back up in February!**
URL:https://www.olympiahillsgolf.com/event/last-thursday-night-happy-hour-of-2024-gary-the-showman/
END:VEVENT
BEGIN:VEVENT
DTSTART;TZID=America/Chicago:20241114T170000
DTEND;TZID=America/Chicago:20241114T200000
DTSTAMP:20260421T040740
CREATED:20241001T144047Z
LAST-MODIFIED:20241001T144047Z
UID:10000007-1731603600-1731614400@www.olympiahillsgolf.com
SUMMARY:Thursday Night Happy Hour - Jeff Wood
DESCRIPTION:
URL:https://www.olympiahillsgolf.com/event/thursday-night-happy-hour-jeff-wood-2/
END:VEVENT
BEGIN:VEVENT
DTSTART;TZID=America/Chicago:20241107T170000
DTEND;TZID=America/Chicago:20241107T200000
DTSTAMP:20260421T040740
CREATED:20241001T143948Z
LAST-MODIFIED:20241001T143948Z
UID:10000006-1730998800-1731009600@www.olympiahillsgolf.com
SUMMARY:Thursday Night Happy Hour - Andrew Lopez
DESCRIPTION:
URL:https://www.olympiahillsgolf.com/event/thursday-night-happy-hour-andrew-lopez-2/
END:VEVENT
BEGIN:VEVENT
DTSTART;TZID=America/Chicago:20241031T170000
DTEND;TZID=America/Chicago:20241031T194500
DTSTAMP:20260421T040740
CREATED:20241001T143836Z
LAST-MODIFIED:20241001T143836Z
UID:10000005-1730394000-1730403900@www.olympiahillsgolf.com
SUMMARY:Halloween Happy Hour!
DESCRIPTION:Happy Halloween! Our bar & grill will be open until 7:45 pm! We’ll be passing out an assortment of Halloween treats\, perfect for the kids and the kid in you!
URL:https://www.olympiahillsgolf.com/event/halloween-happy-hour/
END:VEVENT
BEGIN:VEVENT
DTSTART;TZID=America/Chicago:20241024T170000
DTEND;TZID=America/Chicago:20241024T200000
DTSTAMP:20260421T040740
CREATED:20241001T143622Z
LAST-MODIFIED:20241001T143622Z
UID:10000004-1729789200-1729800000@www.olympiahillsgolf.com
SUMMARY:Thursday Night Happy Hour - Jacob Kyle
DESCRIPTION:
URL:https://www.olympiahillsgolf.com/event/thursday-night-happy-hour-jacob-kyle/
END:VEVENT
BEGIN:VEVENT
DTSTART;TZID=America/Chicago:20241017T180000
DTEND;TZID=America/Chicago:20241017T210000
DTSTAMP:20260421T040740
CREATED:20241001T143431Z
LAST-MODIFIED:20241001T143431Z
UID:10000003-1729188000-1729198800@www.olympiahillsgolf.com
SUMMARY:Halloween Happy Hour with Gary the Showman!
DESCRIPTION:Halloween Happy Hour with Gary the Showman! **This happy hour will be from 6:00 to 9:00 pm and will be located in our reception room.**
URL:https://www.olympiahillsgolf.com/event/halloween-happy-hour-with-gary-the-showman/
END:VEVENT
BEGIN:VEVENT
DTSTART;TZID=America/Chicago:20241010T170000
DTEND;TZID=America/Chicago:20241010T200000
DTSTAMP:20260421T040740
CREATED:20241001T143247Z
LAST-MODIFIED:20241001T143247Z
UID:10000002-1728579600-1728590400@www.olympiahillsgolf.com
SUMMARY:Thursday Night Happy Hour - Jeff Wood
DESCRIPTION:
URL:https://www.olympiahillsgolf.com/event/thursday-night-happy-hour-jeff-wood/
END:VEVENT
BEGIN:VEVENT
DTSTART;TZID=America/Chicago:20241003T170000
DTEND;TZID=America/Chicago:20241003T200000
DTSTAMP:20260421T040740
CREATED:20241001T143109Z
LAST-MODIFIED:20241001T143109Z
UID:10000001-1727974800-1727985600@www.olympiahillsgolf.com
SUMMARY:Thursday Night Happy Hour - Andrew Lopez
DESCRIPTION:
URL:https://www.olympiahillsgolf.com/event/thursday-night-happy-hour-andrew-lopez/
END:VEVENT
END:VCALENDAR